Workbook

Sheet Como usar
B2: Planilha de agendamento de clientes
B3: Modelo grátis do Salão Up · salaoup.com
B5: 1. Na aba Cadastros, escreva os serviços com a duração em minutos e o preço, e os nomes de quem atende.
B6: 2. Na aba Agenda, lance cada horário: data, hora de início, cliente, WhatsApp, serviço e profissional (os dois em lista).
B7: 3. A hora de término e o valor saem sozinhos. Se o horário bater com outro da mesma profissional no mesmo dia, aparece "Horário ocupado" na coluna Aviso (horários cancelados ou com falta não contam: a vaga ficou livre para encaixe).
B8: 4. Depois do atendimento, mude o Status para Concluído, Faltou ou Cancelado.
B9: 5. Na aba Resumo, escolha o período e veja quantos horários foram marcados, concluídos, as faltas, a taxa de faltas e quanto entrou.
B10: Dica: digite a hora assim, 09:30. As linhas em cinza são exemplo: pode apagar e começar a usar.
B12: No Salão Up isso tudo é calculado sozinho a cada atendimento concluído. Conheça em salaoup.com

Sheet Cadastros
A1: Cadastros
A2: Serviços à esquerda, equipe à direita. Modelo grátis do Salão Up · salaoup.com
A3: Serviço | B3: Duração (min) | C3: Preço (R$) | E3: Quem atende
A4: Manicure (exemplo) | B4: 45 | C4: 50 | E4: Ana (exemplo)
A5: Pé e mão (exemplo) | B5: 90 | C5: 85 | E5: Bia (exemplo)
A6: Escova (exemplo) | B6: 50 | C6: 80

Sheet Agenda
A1: Agenda
A2: Um horário por linha. Termina, valor e aviso são calculados sozinhos. Modelo grátis do Salão Up · salaoup.com
A3: Data | B3: Início | C3: Cliente | D3: WhatsApp | E3: Serviço | F3: Profissional | G3: Duração | H3: Termina | I3: Valor (R$) | J3: Status | K3: Aviso | L3: Observações
A4: 46301 | B4: 0.375 | C4: Carla (exemplo) | D4: (11) 99999-0001 | E4: Pé e mão (exemplo) | F4: Ana (exemplo) | G4: =IF(E4="","",IFERROR(VLOOKUP(E4,Cadastros!$A$4:$C$103,2,FALSE),"")) -> 90 | H4: =IF(OR(B4="",G4=""),"",B4+G4/1440) -> 0.4375 | I4: =IF(E4="","",IFERROR(VLOOKUP(E4,Cadastros!$A$4:$C$103,3,FALSE),"")) -> 85 | J4: Concluído | K4: =IF(OR(A4="",B4="",F4="",H4="",J4="Cancelado",J4="Faltou"),"",IF(COUNTIFS($A$4:$A$303,A4,$F$4:$F$303,F4,$B$4:$B$303,"<"&H4,$H$4:$H$303,">"&B4,$J$4:$J$303,"<>Cancelado",$J$4:$J$303,"<>Faltou")>1,"Horário ocupado",""))
A5: 46301 | B5: 0.4375 | C5: Paula (exemplo) | D5: (11) 99999-0002 | E5: Manicure (exemplo) | F5: Ana (exemplo) | G5: =IF(E5="","",IFERROR(VLOOKUP(E5,Cadastros!$A$4:$C$103,2,FALSE),"")) -> 45 | H5: =IF(OR(B5="",G5=""),"",B5+G5/1440) -> 0.46875 | I5: =IF(E5="","",IFERROR(VLOOKUP(E5,Cadastros!$A$4:$C$103,3,FALSE),"")) -> 50 | J5: Confirmado | K5: =IF(OR(A5="",B5="",F5="",H5="",J5="Cancelado",J5="Faltou"),"",IF(COUNTIFS($A$4:$A$303,A5,$F$4:$F$303,F5,$B$4:$B$303,"<"&H5,$H$4:$H$303,">"&B5,$J$4:$J$303,"<>Cancelado",$J$4:$J$303,"<>Faltou")>1,"Horário ocupado",""))
A6: 46301 | B6: 0.41666667 | C6: Júlia (exemplo) | D6: (11) 99999-0003 | E6: Escova (exemplo) | F6: Bia (exemplo) | G6: =IF(E6="","",IFERROR(VLOOKUP(E6,Cadastros!$A$4:$C$103,2,FALSE),"")) -> 50 | H6: =IF(OR(B6="",G6=""),"",B6+G6/1440) -> 0.45138889 | I6: =IF(E6="","",IFERROR(VLOOKUP(E6,Cadastros!$A$4:$C$103,3,FALSE),"")) -> 80 | J6: Faltou | K6: =IF(OR(A6="",B6="",F6="",H6="",J6="Cancelado",J6="Faltou"),"",IF(COUNTIFS($A$4:$A$303,A6,$F$4:$F$303,F6,$B$4:$B$303,"<"&H6,$H$4:$H$303,">"&B6,$J$4:$J$303,"<>Cancelado",$J$4:$J$303,"<>Faltou")>1,"Horário ocupado",""))
G7: =IF(E7="","",IFERROR(VLOOKUP(E7,Cadastros!$A$4:$C$103,2,FALSE),"")) | H7: =IF(OR(B7="",G7=""),"",B7+G7/1440) | I7: =IF(E7="","",IFERROR(VLOOKUP(E7,Cadastros!$A$4:$C$103,3,FALSE),"")) | K7: =IF(OR(A7="",B7="",F7="",H7="",J7="Cancelado",J7="Faltou"),"",IF(COUNTIFS($A$4:$A$303,A7,$F$4:$F$303,F7,$B$4:$B$303,"<"&H7,$H$4:$H$303,">"&B7,$J$4:$J$303,"<>Cancelado",$J$4:$J$303,"<>Faltou")>1,"Horário ocupado",""))
G8: =IF(E8="","",IFERROR(VLOOKUP(E8,Cadastros!$A$4:$C$103,2,FALSE),"")) | H8: =IF(OR(B8="",G8=""),"",B8+G8/1440) | I8: =IF(E8="","",IFERROR(VLOOKUP(E8,Cadastros!$A$4:$C$103,3,FALSE),"")) | K8: =IF(OR(A8="",B8="",F8="",H8="",J8="Cancelado",J8="Faltou"),"",IF(COUNTIFS($A$4:$A$303,A8,$F$4:$F$303,F8,$B$4:$B$303,"<"&H8,$H$4:$H$303,">"&B8,$J$4:$J$303,"<>Cancelado",$J$4:$J$303,"<>Faltou")>1,"Horário ocupado",""))
G9: =IF(E9="","",IFERROR(VLOOKUP(E9,Cadastros!$A$4:$C$103,2,FALSE),"")) | H9: =IF(OR(B9="",G9=""),"",B9+G9/1440) | I9: =IF(E9="","",IFERROR(VLOOKUP(E9,Cadastros!$A$4:$C$103,3,FALSE),"")) | K9: =IF(OR(A9="",B9="",F9="",H9="",J9="Cancelado",J9="Faltou"),"",IF(COUNTIFS($A$4:$A$303,A9,$F$4:$F$303,F9,$B$4:$B$303,"<"&H9,$H$4:$H$303,">"&B9,$J$4:$J$303,"<>Cancelado",$J$4:$J$303,"<>Faltou")>1,"Horário ocupado",""))
G10: =IF(E10="","",IFERROR(VLOOKUP(E10,Cadastros!$A$4:$C$103,2,FALSE),"")) | H10: =IF(OR(B10="",G10=""),"",B10+G10/1440) | I10: =IF(E10="","",IFERROR(VLOOKUP(E10,Cadastros!$A$4:$C$103,3,FALSE),"")) | K10: =IF(OR(A10="",B10="",F10="",H10="",J10="Cancelado",J10="Faltou"),"",IF(COUNTIFS($A$4:$A$303,A10,$F$4:$F$303,F10,$B$4:$B$303,"<"&H10,$H$4:$H$303,">"&B10,$J$4:$J$303,"<>Cancelado",$J$4:$J$303,"<>Faltou")>1,"Horário ocupado",""))
G11: =IF(E11="","",IFERROR(VLOOKUP(E11,Cadastros!$A$4:$C$103,2,FALSE),"")) | H11: =IF(OR(B11="",G11=""),"",B11+G11/1440) | I11: =IF(E11="","",IFERROR(VLOOKUP(E11,Cadastros!$A$4:$C$103,3,FALSE),"")) | K11: =IF(OR(A11="",B11="",F11="",H11="",J11="Cancelado",J11="Faltou"),"",IF(COUNTIFS($A$4:$A$303,A11,$F$4:$F$303,F11,$B$4:$B$303,"<"&H11,$H$4:$H$303,">"&B11,$J$4:$J$303,"<>Cancelado",$J$4:$J$303,"<>Faltou")>1,"Horário ocupado",""))
G12: =IF(E12="","",IFERROR(VLOOKUP(E12,Cadastros!$A$4:$C$103,2,FALSE),"")) | H12: =IF(OR(B12="",G12=""),"",B12+G12/1440) | I12: =IF(E12="","",IFERROR(VLOOKUP(E12,Cadastros!$A$4:$C$103,3,FALSE),"")) | K12: =IF(OR(A12="",B12="",F12="",H12="",J12="Cancelado",J12="Faltou"),"",IF(COUNTIFS($A$4:$A$303,A12,$F$4:$F$303,F12,$B$4:$B$303,"<"&H12,$H$4:$H$303,">"&B12,$J$4:$J$303,"<>Cancelado",$J$4:$J$303,"<>Faltou")>1,"Horário ocupado",""))
G13: =IF(E13="","",IFERROR(VLOOKUP(E13,Cadastros!$A$4:$C$103,2,FALSE),"")) | H13: =IF(OR(B13="",G13=""),"",B13+G13/1440) | I13: =IF(E13="","",IFERROR(VLOOKUP(E13,Cadastros!$A$4:$C$103,3,FALSE),"")) | K13: =IF(OR(A13="",B13="",F13="",H13="",J13="Cancelado",J13="Faltou"),"",IF(COUNTIFS($A$4:$A$303,A13,$F$4:$F$303,F13,$B$4:$B$303,"<"&H13,$H$4:$H$303,">"&B13,$J$4:$J$303,"<>Cancelado",$J$4:$J$303,"<>Faltou")>1,"Horário ocupado",""))
G14: =IF(E14="","",IFERROR(VLOOKUP(E14,Cadastros!$A$4:$C$103,2,FALSE),"")) | H14: =IF(OR(B14="",G14=""),"",B14+G14/1440) | I14: =IF(E14="","",IFERROR(VLOOKUP(E14,Cadastros!$A$4:$C$103,3,FALSE),"")) | K14: =IF(OR(A14="",B14="",F14="",H14="",J14="Cancelado",J14="Faltou"),"",IF(COUNTIFS($A$4:$A$303,A14,$F$4:$F$303,F14,$B$4:$B$303,"<"&H14,$H$4:$H$303,">"&B14,$J$4:$J$303,"<>Cancelado",$J$4:$J$303,"<>Faltou")>1,"Horário ocupado",""))
G15: =IF(E15="","",IFERROR(VLOOKUP(E15,Cadastros!$A$4:$C$103,2,FALSE),"")) | H15: =IF(OR(B15="",G15=""),"",B15+G15/1440) | I15: =IF(E15="","",IFERROR(VLOOKUP(E15,Cadastros!$A$4:$C$103,3,FALSE),"")) | K15: =IF(OR(A15="",B15="",F15="",H15="",J15="Cancelado",J15="Faltou"),"",IF(COUNTIFS($A$4:$A$303,A15,$F$4:$F$303,F15,$B$4:$B$303,"<"&H15,$H$4:$H$303,">"&B15,$J$4:$J$303,"<>Cancelado",$J$4:$J$303,"<>Faltou")>1,"Horário ocupado",""))
G16: =IF(E16="","",IFERROR(VLOOKUP(E16,Cadastros!$A$4:$C$103,2,FALSE),"")) | H16: =IF(OR(B16="",G16=""),"",B16+G16/1440) | I16: =IF(E16="","",IFERROR(VLOOKUP(E16,Cadastros!$A$4:$C$103,3,FALSE),"")) | K16: =IF(OR(A16="",B16="",F16="",H16="",J16="Cancelado",J16="Faltou"),"",IF(COUNTIFS($A$4:$A$303,A16,$F$4:$F$303,F16,$B$4:$B$303,"<"&H16,$H$4:$H$303,">"&B16,$J$4:$J$303,"<>Cancelado",$J$4:$J$303,"<>Faltou")>1,"Horário ocupado",""))
G17: =IF(E17="","",IFERROR(VLOOKUP(E17,Cadastros!$A$4:$C$103,2,FALSE),"")) | H17: =IF(OR(B17="",G17=""),"",B17+G17/1440) | I17: =IF(E17="","",IFERROR(VLOOKUP(E17,Cadastros!$A$4:$C$103,3,FALSE),"")) | K17: =IF(OR(A17="",B17="",F17="",H17="",J17="Cancelado",J17="Faltou"),"",IF(COUNTIFS($A$4:$A$303,A17,$F$4:$F$303,F17,$B$4:$B$303,"<"&H17,$H$4:$H$303,">"&B17,$J$4:$J$303,"<>Cancelado",$J$4:$J$303,"<>Faltou")>1,"Horário ocupado",""))
G18: =IF(E18="","",IFERROR(VLOOKUP(E18,Cadastros!$A$4:$C$103,2,FALSE),"")) | H18: =IF(OR(B18="",G18=""),"",B18+G18/1440) | I18: =IF(E18="","",IFERROR(VLOOKUP(E18,Cadastros!$A$4:$C$103,3,FALSE),"")) | K18: =IF(OR(A18="",B18="",F18="",H18="",J18="Cancelado",J18="Faltou"),"",IF(COUNTIFS($A$4:$A$303,A18,$F$4:$F$303,F18,$B$4:$B$303,"<"&H18,$H$4:$H$303,">"&B18,$J$4:$J$303,"<>Cancelado",$J$4:$J$303,"<>Faltou")>1,"Horário ocupado",""))
... G303: =IF(E303="","",IFERROR(VLOOKUP(E303,Cadastros!$A$4:$C$103,2,FALSE),"")) | H303: =IF(OR(B303="",G303=""),"",B303+G303/1440) | I303: =IF(E303="","",IFERROR(VLOOKUP(E303,Cadastros!$A$4:$C$103,3,FALSE),"")) | K303: =IF(OR(A303="",B303="",F303="",H303="",J303="Cancelado",J303="Faltou"),"",IF(COUNTIFS($A$4:$A$303,A303,$F$4:$F$303,F303,$B$4:$B$303,"<"&H303,$H$4:$H$303,">"&B303,$J$4:$J$303,"<>Cancelado",$J$4:$J$303,"<>Faltou")>1,"Horário ocupado",""))

Sheet Resumo
A1: Resumo da agenda
A2: Modelo grátis do Salão Up · salaoup.com
A4: De | B4: 46296
A5: Até | B5: 46326
A7: No período
A8: Horários marcados | B8: =COUNTIFS(Agenda!$A$4:$A$303,">="&IF($B$4="",0,$B$4),Agenda!$A$4:$A$303,"<="&IF($B$5="",2958465,$B$5),Agenda!$E$4:$E$303,"<>") -> 3
A9: Concluídos | B9: =COUNTIFS(Agenda!$A$4:$A$303,">="&IF($B$4="",0,$B$4),Agenda!$A$4:$A$303,"<="&IF($B$5="",2958465,$B$5),Agenda!$J$4:$J$303,"Concluído") -> 1
A10: Faltas | B10: =COUNTIFS(Agenda!$A$4:$A$303,">="&IF($B$4="",0,$B$4),Agenda!$A$4:$A$303,"<="&IF($B$5="",2958465,$B$5),Agenda!$J$4:$J$303,"Faltou") -> 1
A11: Cancelados | B11: =COUNTIFS(Agenda!$A$4:$A$303,">="&IF($B$4="",0,$B$4),Agenda!$A$4:$A$303,"<="&IF($B$5="",2958465,$B$5),Agenda!$J$4:$J$303,"Cancelado") -> 0
A12: Taxa de faltas | B12: =IF(B9+B10=0,0,B10/(B9+B10)) -> 0.5
A13: Faturamento dos concluídos | B13: =SUMIFS(Agenda!$I$4:$I$303,Agenda!$A$4:$A$303,">="&IF($B$4="",0,$B$4),Agenda!$A$4:$A$303,"<="&IF($B$5="",2958465,$B$5),Agenda!$J$4:$J$303,"Concluído") -> 85
A15: Falta demais? No Salão Up a confirmação e o lembrete saem sozinhos no WhatsApp. salaoup.com
